BEGIN:VCALENDAR
VERSION:2.0
PRODID:-//Plone.org//NONSGML plone.app.event//EN
X-WR-TIMEZONE:Europe/Berlin
BEGIN:VEVENT
SUMMARY:DETECT Seminar “The land surface in the climate system”
DTSTART;TZID=Europe/Berlin:20251001T101500
DTEND;TZID=Europe/Berlin:20260518T113000
DTSTAMP:20260421T130108Z
UID:8fc41a9bf38a4457980504a761c1410d@backend
CONTACT:Dr. Frank Siegismund\, siegismund@geod.uni-bonn.de\, https://sfb15
 02.de/news-events/events/crc-1502-events/land-climate-seminar
CREATED:20250320T145023Z
LAST-MODIFIED:20260303T131324Z
LOCATION:via Zoom
URL:https://www.geoverbund-abcj.de/de/aktuelles/termine/detect-seminar-the
 -land-surface-in-the-climate-system201d
END:VEVENT
BEGIN:VTIMEZONE
TZID:Europe/Berlin
X-LIC-LOCATION:Europe/Berlin
BEGIN:DAYLIGHT
DTSTART:20250330T030000
TZNAME:CEST
TZOFFSETFROM:+0100
TZOFFSETTO:+0200
END:DAYLIGHT
BEGIN:DAYLIGHT
DTSTART:20260329T030000
TZNAME:CEST
TZOFFSETFROM:+0100
TZOFFSETTO:+0200
END:DAYLIGHT
END:VTIMEZONE
END:VCALENDAR
